BEGIN:VCALENDAR
VERSION:2.0
PRODID:-//Careerify - ECPv6.15.20//NONSGML v1.0//EN
CALSCALE:GREGORIAN
METHOD:PUBLISH
X-WR-CALNAME:Careerify
X-ORIGINAL-URL:https://careerify.tas.gov.au
X-WR-CALDESC:Events for Careerify
REFRESH-INTERVAL;VALUE=DURATION:PT1H
X-Robots-Tag:noindex
X-PUBLISHED-TTL:PT1H
BEGIN:VTIMEZONE
TZID:Australia/Sydney
BEGIN:STANDARD
TZOFFSETFROM:+1100
TZOFFSETTO:+1000
TZNAME:AEST
DTSTART:20240406T160000
END:STANDARD
BEGIN:DAYLIGHT
TZOFFSETFROM:+1000
TZOFFSETTO:+1100
TZNAME:AEDT
DTSTART:20241005T160000
END:DAYLIGHT
BEGIN:STANDARD
TZOFFSETFROM:+1100
TZOFFSETTO:+1000
TZNAME:AEST
DTSTART:20250405T160000
END:STANDARD
BEGIN:DAYLIGHT
TZOFFSETFROM:+1000
TZOFFSETTO:+1100
TZNAME:AEDT
DTSTART:20251004T160000
END:DAYLIGHT
BEGIN:STANDARD
TZOFFSETFROM:+1100
TZOFFSETTO:+1000
TZNAME:AEST
DTSTART:20260404T160000
END:STANDARD
BEGIN:DAYLIGHT
TZOFFSETFROM:+1000
TZOFFSETTO:+1100
TZNAME:AEDT
DTSTART:20261003T160000
END:DAYLIGHT
END:VTIMEZONE
BEGIN:VEVENT
DTSTART;TZID=Australia/Sydney:20250914T100000
DTEND;TZID=Australia/Sydney:20250914T140000
DTSTAMP:20260420T062841
CREATED:20220802T010139Z
LAST-MODIFIED:20250903T022426Z
UID:5834-1757844000-1757858400@careerify.tas.gov.au
SUMMARY:University of Tasmania Open Day - Hobart
DESCRIPTION:Open Day is a great way to explore campuses and get a taste of life at the University of Tasmania. You can hear all about their courses\, pathways and scholarships – straight from students and teaching staff. \nTake a tour of the campus and facilities\, meet some of the academics\, talk to current university students\, learn about some of the exciting research projects\, and see what each of their courses has to offer. \nThe event is packed with exciting hands-on activities\, great food\, live music and plenty of environmentally sustainable merch. \nCheck out the Hobart Open Day  program – marketing.utas.edu.au/opendayhobart/planyourday\nRegister for the event – marketing.tas.edu.au/opendayhobart/signup
URL:https://careerify.tas.gov.au/event/university-of-tasmania-open-day-hobart/
LOCATION:University of Tasmania – Sandy Bay Campus\, Churchill Avenue\, Hobart\, Tasmania\, 70005\, Australia
CATEGORIES:F2F Event
ATTACH;FMTTYPE=image/jpeg:https://careerify.tas.gov.au/wp-content/uploads/2022/08/UTAS-Open-Day-2025.jpg
END:VEVENT
BEGIN:VEVENT
DTSTART;TZID=Australia/Sydney:20250921T100000
DTEND;TZID=Australia/Sydney:20250921T140000
DTSTAMP:20260420T062841
CREATED:20220802T030841Z
LAST-MODIFIED:20250903T022856Z
UID:5844-1758448800-1758463200@careerify.tas.gov.au
SUMMARY:University of Tasmania Open Day - Launceston
DESCRIPTION:Open Day is a great way to explore campuses and get a taste of life at the University of Tasmania. You can hear all about their courses\, pathways and scholarships – straight from students and teaching staff. \nTake a tour of the campus and facilities\, meet some of the academics\, talk to current university students\, learn about some of the exciting research projects\, and see what each of their courses has to offer. \nThe events is packed with exciting hands-on activities\, great food\, live music and plenty of environmentally sustainable merch. \nCheck out the Launceston Open Day  program – marketing.utas.edu.au/opendaylaunceston\nRegister for the event – marketing.utas.edu.au/opendaylaunceston/signup\n 
URL:https://careerify.tas.gov.au/event/university-of-tasmania-open-day-launceston/
LOCATION:University of Tasmania Inveresk Campus\, Inveresk Railyards\, 2 Invermay Road\, Launceston\, Tasmania\, 7250\, Australia
CATEGORIES:F2F Event
ATTACH;FMTTYPE=image/jpeg:https://careerify.tas.gov.au/wp-content/uploads/2022/08/UTAS-Open-Day-2025.jpg
END:VEVENT
END:VCALENDAR